BEGIN:VCALENDAR
VERSION:2.0
PRODID:-//legacyeventssd.com - ECPv6.6.3//NONSGML v1.0//EN
CALSCALE:GREGORIAN
METHOD:PUBLISH
X-WR-CALNAME:legacyeventssd.com
X-ORIGINAL-URL:https://legacyeventssd.com
X-WR-CALDESC:Events for legacyeventssd.com
REFRESH-INTERVAL;VALUE=DURATION:PT1H
X-Robots-Tag:noindex
X-PUBLISHED-TTL:PT1H
BEGIN:VTIMEZONE
TZID:America/Los_Angeles
BEGIN:DAYLIGHT
TZOFFSETFROM:-0800
TZOFFSETTO:-0700
TZNAME:PDT
DTSTART:20260308T100000
END:DAYLIGHT
BEGIN:STANDARD
TZOFFSETFROM:-0700
TZOFFSETTO:-0800
TZNAME:PST
DTSTART:20261101T090000
END:STANDARD
END:VTIMEZONE
BEGIN:VEVENT
DTSTART;VALUE=DATE:20260605
DTEND;VALUE=DATE:20260607
DTSTAMP:20260420T084925
CREATED:20260320T181811Z
LAST-MODIFIED:20260320T182402Z
UID:10000046-1780617600-1780790399@legacyeventssd.com
SUMMARY:Made For Miracles!
DESCRIPTION:REGISTER NOW! \nThis conference is your divine appointment with the God of miracle power — don’t miss what God will release in you\, for you and through you!\n\n\n\nMade for Miracles Conference \nYour Divine Appointment with the God of Signs\, Wonders\, and Miracles\nThis is not just another conference. \nThis is a divine appointment. \nFor two powerful days\, believers from across the region will gather on the Legacy International Center campus for an extraordinary encounter with the God of miracle power. \nThe banner over this conference is clear: \n“You are one with the God of signs\, wonders\, and miracles—who is the same yesterday\, today\, and forever.” \nThis will be more than a time of inspiration.\nIt will be a time of impartation\, activation\, and supernatural breakthrough. \nWe are believing God for a manifestation of miracles\, healings\, and divine intervention—and for every person attending to be equipped to walk in a lifestyle of miracle signs and wonders. \nYou will not only receive from God. \nYou will be equipped to be used by God. \nFeatured SpeakersWe are honored to welcome an extraordinary lineup of anointed ministers who are seeing the power of God demonstrated around the world: \n• Jonathan Shuttlesworth\n• David Diga Hernandez\n• Apostle Nathaniel Leon\n• Gospel legend Eddie James \nWorship led by Brandon Roberson \nThese leaders carry a passion to see believers awakened\, empowered\, and released into miracle ministry. \nConference ScheduleFriday\, June 5 — 7:00 PM\nJonathan Shuttlesworth \nSaturday\, June 6 — 10:00 AM\nJonathan Shuttlesworth \nSaturday\, June 6 — 3:00 PM\nApostle Nathaniel Leon \nSaturday\, June 6 — 7:00 PM\nDavid Diga Hernandez \nWhat You Will ExperienceFor two unforgettable days at Legacy\, you will encounter: \n• Dynamic worship that ushers in the presence of God\n• Powerful preaching and live ministry from anointed speakers\n• Special video excerpts from the Morris Cerullo Miracle Power Living School of Ministry\n• Impartation and activation for miracle ministry\n• Prayer for healing\, breakthrough\, and divine intervention \nThe waters will be stirred.\nFaith will rise.\nLives will be transformed. \nThis conference is centered on one powerful truth: \nYou were made for miracles because you are one with the God of signs\, wonders\, and miracles. \nYou were never meant to live powerless Christianity. \nYou were made for miracles. \nAdmission DetailsAdmission is FREE. Doors Open 30 minutes before each service.\nParking is FREE \nSeating is limited. \nYou may reserve up to four tickets per registration. \nREGISTER NOW!
URL:https://legacyeventssd.com/event/made-for-miracles/
LOCATION:Legacy International Center\, 875 Hotel Circle South\, San Diego\, CA\, 92108\, United States
ATTACH;FMTTYPE=image/jpeg:https://legacyeventssd.com/wp-content/uploads/2026/03/madeformiracles-1.jpg
ORGANIZER;CN="Morris Cerullo World Evangelism":MAILTO:partnerservices@mcwe.com
END:VEVENT
END:VCALENDAR