BEGIN:VCALENDAR
VERSION:2.0
PRODID:-//legacyeventssd.com - ECPv6.6.3//NONSGML v1.0//EN
CALSCALE:GREGORIAN
METHOD:PUBLISH
X-WR-CALNAME:legacyeventssd.com
X-ORIGINAL-URL:https://legacyeventssd.com
X-WR-CALDESC:Events for legacyeventssd.com
REFRESH-INTERVAL;VALUE=DURATION:PT1H
X-Robots-Tag:noindex
X-PUBLISHED-TTL:PT1H
BEGIN:VTIMEZONE
TZID:America/Los_Angeles
BEGIN:DAYLIGHT
TZOFFSETFROM:-0800
TZOFFSETTO:-0700
TZNAME:PDT
DTSTART:20230312T100000
END:DAYLIGHT
BEGIN:STANDARD
TZOFFSETFROM:-0700
TZOFFSETTO:-0800
TZNAME:PST
DTSTART:20231105T090000
END:STANDARD
BEGIN:DAYLIGHT
TZOFFSETFROM:-0800
TZOFFSETTO:-0700
TZNAME:PDT
DTSTART:20240310T100000
END:DAYLIGHT
BEGIN:STANDARD
TZOFFSETFROM:-0700
TZOFFSETTO:-0800
TZNAME:PST
DTSTART:20241103T090000
END:STANDARD
END:VTIMEZONE
BEGIN:VEVENT
DTSTART;VALUE=DATE:20240125
DTEND;VALUE=DATE:20240129
DTSTAMP:20260420T123525
CREATED:20231110T203317Z
LAST-MODIFIED:20231110T203547Z
UID:10000014-1706140800-1706486399@legacyeventssd.com
SUMMARY:World Conference 2024
DESCRIPTION:Click here to Register
URL:https://legacyeventssd.com/event/world-conference-2024/
LOCATION:Legacy International Center\, 875 Hotel Circle South\, San Diego\, CA\, 92108\, United States
ATTACH;FMTTYPE=image/jpeg:https://legacyeventssd.com/wp-content/uploads/2023/11/34197.00-2024-WC-Rotator-Slide-FINAL-min.jpg
ORGANIZER;CN="Morris Cerullo World Evangelism":MAILTO:partnerservices@mcwe.com
END:VEVENT
BEGIN:VEVENT
DTSTART;TZID=America/Los_Angeles:20231209T160000
DTEND;TZID=America/Los_Angeles:20231209T210000
DTSTAMP:20260420T123525
CREATED:20231114T155508Z
LAST-MODIFIED:20231114T225300Z
UID:10000015-1702137600-1702155600@legacyeventssd.com
SUMMARY:Christmas On The Plaza
DESCRIPTION:Join us at the\n\n\nLegacy International Center on Saturday\, December 9th 4:00-9:00 PM
URL:https://legacyeventssd.com/event/christmas-on-the-plaza/
LOCATION:Legacy International Center\, 875 Hotel Circle South\, San Diego\, CA\, 92108\, United States
ATTACH;FMTTYPE=image/jpeg:https://legacyeventssd.com/wp-content/uploads/2023/11/34357.00-Christmas-On-the-Plaza-Rotator-Slide-min.jpg
ORGANIZER;CN="Morris Cerullo World Evangelism":MAILTO:partnerservices@mcwe.com
END:VEVENT
BEGIN:VEVENT
DTSTART;TZID=America/Los_Angeles:20231019T190000
DTEND;TZID=America/Los_Angeles:20231019T200000
DTSTAMP:20260420T123525
CREATED:20231016T195808Z
LAST-MODIFIED:20231016T203526Z
UID:10000009-1697742000-1697745600@legacyeventssd.com
SUMMARY:San Diego Night of Prayer for Israel at Legacy!
DESCRIPTION:Join pastors & believers from across greater San Diego as we join our hearts together for an hour of prayer for Israel! \nRegistration is not necessary but is appreciated so we have an idea on attendance. \nPlease feel free to share the images below on social media. \nWe will gather on the Legacy Lower Pavillion Plaza Replica Western Wailing Wall from 7-8PM. (Will start with praise and worship at 6:30PM.) \nLegacy International Center \n875 Hotel Circle South \nSan Diego\, CA 92124 \nParking is free. \n\nReserve a spot\n \n\n\n\nReserve a spot
URL:https://legacyeventssd.com/event/san-diego-night-of-prayer-for-israel-at-legacy/
LOCATION:Legacy International Center\, 875 Hotel Circle South\, San Diego\, CA\, 92108\, United States
ATTACH;FMTTYPE=image/jpeg:https://legacyeventssd.com/wp-content/uploads/2023/10/34330.00-Night-of-Prayer-1920x1080-min.jpg
ORGANIZER;CN="Morris Cerullo World Evangelism":MAILTO:partnerservices@mcwe.com
END:VEVENT
BEGIN:VEVENT
DTSTART;VALUE=DATE:20230928
DTEND;VALUE=DATE:20231002
DTSTAMP:20260420T123525
CREATED:20230307T045047Z
LAST-MODIFIED:20231020T171453Z
UID:10000003-1695859200-1696204799@legacyeventssd.com
SUMMARY:Feast of Tabernacles Celebration
DESCRIPTION:AN INCREDIBLE LINE-UP OF MINISTERS IS GATHERING TO BRING YOU INTO AN EXPERIENCE OF GOD’S APPOINTED FEAST
URL:https://legacyeventssd.com/event/feast-of-tabernacles-celebration/
LOCATION:Legacy International Center\, 875 Hotel Circle South\, San Diego\, CA\, 92108\, United States
ATTACH;FMTTYPE=image/jpeg:https://legacyeventssd.com/wp-content/uploads/2023/03/fotevent-min.jpg
ORGANIZER;CN="Morris Cerullo World Evangelism":MAILTO:partnerservices@mcwe.com
END:VEVENT
BEGIN:VEVENT
DTSTART;VALUE=DATE:20230526
DTEND;VALUE=DATE:20230528
DTSTAMP:20260420T123525
CREATED:20230307T044728Z
LAST-MODIFIED:20231020T170949Z
UID:10000002-1685059200-1685231999@legacyeventssd.com
SUMMARY:Feast of Pentecost Celebration
DESCRIPTION:An Incredible Line-up of Ministers Are Gathering for Legacy’s First Pentecost Celebration!\nDavid Cerullo invites you to celebrate Pentecost Weekend at Legacy\, May 26-27 with two great miracle services with world renowned evangelist\, Mario Murillo\, Friday and Saturday at 7PM plus an anointed array of ministers that will be coming to release the power of the Holy Spirit in special services Saturday morning and afternoon including Bishop Clarence McClendon\, Pastor Al Valdez and Pastor Sergio De La Mora. \nMario’s voice has been heard by millions around the world\, bringing a message that zeroes in on the hurts of society. He presents Christ clearly\, intelligently and openly declares the power of Jesus to totally transform a life. His simple declaration: Come and see. Christ has the power to end addiction\, racism\, violence and disease.
URL:https://legacyeventssd.com/event/feast-of-pentecost-celebration/
LOCATION:Legacy International Center\, 875 Hotel Circle South\, San Diego\, CA\, 92108\, United States
ATTACH;FMTTYPE=image/jpeg:https://legacyeventssd.com/wp-content/uploads/2023/03/pent.jpg
ORGANIZER;CN="Morris Cerullo World Evangelism":MAILTO:partnerservices@mcwe.com
END:VEVENT
BEGIN:VEVENT
DTSTART;VALUE=DATE:20230406
DTEND;VALUE=DATE:20230409
DTSTAMP:20260420T123525
CREATED:20230303T051351Z
LAST-MODIFIED:20231020T171548Z
UID:10000001-1680739200-1680998399@legacyeventssd.com
SUMMARY:Feast of Passover Celebration
DESCRIPTION:David Cerullo invites you to Celebrate the Feast of Passover at the Legacy International Center and join him plus special ministry guests: Steve Munsey\, Robert Stearns\, Bishop Clarence McClendon\, Jonathan Bernis\, Daniel Bentley and worship with Paul Wilbur and more!
URL:https://legacyeventssd.com/event/feast-of-passover-celebration/
LOCATION:Legacy International Center\, 875 Hotel Circle South\, San Diego\, CA\, 92108\, United States
ATTACH;FMTTYPE=image/jpeg:https://legacyeventssd.com/wp-content/uploads/2023/03/33894.00-FOP-Eventbrite-v3-002-2.jpg
ORGANIZER;CN="Morris Cerullo World Evangelism":MAILTO:partnerservices@mcwe.com
END:VEVENT
END:VCALENDAR