BEGIN:VCALENDAR
VERSION:2.0
PRODID:-//legacyeventssd.com - ECPv6.6.3//NONSGML v1.0//EN
CALSCALE:GREGORIAN
METHOD:PUBLISH
X-WR-CALNAME:legacyeventssd.com
X-ORIGINAL-URL:https://legacyeventssd.com
X-WR-CALDESC:Events for legacyeventssd.com
REFRESH-INTERVAL;VALUE=DURATION:PT1H
X-Robots-Tag:noindex
X-PUBLISHED-TTL:PT1H
BEGIN:VTIMEZONE
TZID:America/Los_Angeles
BEGIN:DAYLIGHT
TZOFFSETFROM:-0800
TZOFFSETTO:-0700
TZNAME:PDT
DTSTART:20200308T100000
END:DAYLIGHT
BEGIN:STANDARD
TZOFFSETFROM:-0700
TZOFFSETTO:-0800
TZNAME:PST
DTSTART:20201101T090000
END:STANDARD
BEGIN:DAYLIGHT
TZOFFSETFROM:-0800
TZOFFSETTO:-0700
TZNAME:PDT
DTSTART:20210314T100000
END:DAYLIGHT
BEGIN:STANDARD
TZOFFSETFROM:-0700
TZOFFSETTO:-0800
TZNAME:PST
DTSTART:20211107T090000
END:STANDARD
BEGIN:DAYLIGHT
TZOFFSETFROM:-0800
TZOFFSETTO:-0700
TZNAME:PDT
DTSTART:20220313T100000
END:DAYLIGHT
BEGIN:STANDARD
TZOFFSETFROM:-0700
TZOFFSETTO:-0800
TZNAME:PST
DTSTART:20221106T090000
END:STANDARD
BEGIN:DAYLIGHT
TZOFFSETFROM:-0800
TZOFFSETTO:-0700
TZNAME:PDT
DTSTART:20230312T100000
END:DAYLIGHT
BEGIN:STANDARD
TZOFFSETFROM:-0700
TZOFFSETTO:-0800
TZNAME:PST
DTSTART:20231105T090000
END:STANDARD
TZID:UTC
BEGIN:STANDARD
TZOFFSETFROM:+0000
TZOFFSETTO:+0000
TZNAME:UTC
DTSTART:20210101T000000
END:STANDARD
END:VTIMEZONE
BEGIN:VEVENT
DTSTART;TZID=America/Los_Angeles:20231110T190000
DTEND;TZID=America/Los_Angeles:20231111T190000
DTSTAMP:20260420T141459
CREATED:20231009T222311Z
LAST-MODIFIED:20231110T202909Z
UID:10000008-1699642800-1699729200@legacyeventssd.com
SUMMARY:Lord Teach Us To Pray - Breakthrough Prayer Summit
DESCRIPTION:General Registration\n \n\nAre You Ready For A Fresh Prayer Anointing?\nDavid Cerullo invites you to the Lord\, Teach Us To Pray – Your Breakthrough Prayer Summit at Legacy – November 10-11\, 2023! Anointed men and women of God on assignment to bring impartation to take your prayer life to another level include Dr. Larry Lea\, Bishop Clarence McClendon\, Pastor Sarah Morgan\, Pastor Brian Bolt\, Pastor Al Valdez plus anointed worship with Pastor Brian Bauer (the late Dr. Jack Hayford’s grandson) PLUS spiritual breakthrough classic Morris Cerullo Lord teach Us To Pray School of Ministry video clips! \nLarry Lea is the author of the internationally acclaimed best seller “Could You Not Tarry One Hour?” which he will be ministering from throughout the conference\, which is a revelation concerning the Lord’s Prayer including: \n• The power of the blood concerning your prayer life \n• Learning to pray the Jesus way \n• Praying as a declaration not an invocation \n• How to stand in the “evil day” \n• How to receive a fresh prayer anointing \n• How to have a hearing ear \n• Finding the force of forgiveness \nDr. Larry Lea is considered by many to be the father of the modern international prayer movement. Dr. Morris Cerullo\, Oral Roberts and others called him an apostle of prayer to this generation. \nSchedule of Events: \nFriday\, November 10 \n\n6:30 pm Pre-Service Prayer\, Praise & Worship with Brian Bauer\n7:00 pm Dr. Larry Lea\n\nSaturday\, November 11 \n\n9:30 am Pre-Service Prayer\, Praise & Worship with Brian Bauer\n10:00 am Pastor Al Valdez\, Victory Outreach\n10:30 am Bishop Clarence McClendon\, The Place of Grace\n\n11:30 am Break \n\n2:00 pm Pre-Service Prayer\, Praise & Worship with Brian Bauer\n2:30 pm Pastor Sarah Morgan\, Founder & President Prayer Academy\n3:15 pm Pastor Brian Bolt\, City Reach Church\n\n4:00 pm Break \n\n6:30 pm Pre-Service Prayer\, Praise & Worship with Brian Bauer\n7:00 pm Dr. Larry Lea – Closing Anointing & Impartation Service\n\nSpecial Lord Teach Us to Pray Weekend Hotel Rates while rooms are available: \nLEGACY Hotel Resort & Spa: (619) 782-9155 (Dial 0) $199 per night plus tax (With Balcony $229) \nLegacy Center International Pavilion Theater \n875 Hotel Circle South \nSan Diego\, CA 92128 \nParking Is Complimentary for This Event!!
URL:https://legacyeventssd.com/event/lord-teach-us-to-pray-breakthrough-prayer-summit/
LOCATION:Legacy International Center\, 875 Hotel Circle South\, San Diego\, CA\, 92108\, United States
ATTACH;FMTTYPE=image/jpeg:https://legacyeventssd.com/wp-content/uploads/2023/10/ltutp-min-2.jpg
END:VEVENT
BEGIN:VEVENT
DTSTART;VALUE=DATE:20231027
DTEND;VALUE=DATE:20231029
DTSTAMP:20260420T141459
CREATED:20230824T224120Z
LAST-MODIFIED:20231010T160247Z
UID:10000006-1698364800-1698537599@legacyeventssd.com
SUMMARY:El Poder De La Oración
DESCRIPTION:Registro\n \n\nPara hospedaje\, llame directamente al hotel de su preferencia:\nLegacy Resort Hotel & Spa: (858) 277-2200 ×2558 |  email: jgarcia@mcwe.com \nDays Inn: 619-297-8800
URL:https://legacyeventssd.com/event/el-poder-de-la-oracion/
LOCATION:Legacy International Center\, 875 Hotel Circle South\, San Diego\, CA\, 92108\, United States
ATTACH;FMTTYPE=image/jpeg:https://legacyeventssd.com/wp-content/uploads/2023/08/elpoder.jpg
END:VEVENT
BEGIN:VEVENT
DTSTART;TZID=America/Los_Angeles:20231019T190000
DTEND;TZID=America/Los_Angeles:20231019T200000
DTSTAMP:20260420T141459
CREATED:20231016T195808Z
LAST-MODIFIED:20231016T203526Z
UID:10000009-1697742000-1697745600@legacyeventssd.com
SUMMARY:San Diego Night of Prayer for Israel at Legacy!
DESCRIPTION:Join pastors & believers from across greater San Diego as we join our hearts together for an hour of prayer for Israel! \nRegistration is not necessary but is appreciated so we have an idea on attendance. \nPlease feel free to share the images below on social media. \nWe will gather on the Legacy Lower Pavillion Plaza Replica Western Wailing Wall from 7-8PM. (Will start with praise and worship at 6:30PM.) \nLegacy International Center \n875 Hotel Circle South \nSan Diego\, CA 92124 \nParking is free. \n\nReserve a spot\n \n\n\n\nReserve a spot
URL:https://legacyeventssd.com/event/san-diego-night-of-prayer-for-israel-at-legacy/
LOCATION:Legacy International Center\, 875 Hotel Circle South\, San Diego\, CA\, 92108\, United States
ATTACH;FMTTYPE=image/jpeg:https://legacyeventssd.com/wp-content/uploads/2023/10/34330.00-Night-of-Prayer-1920x1080-min.jpg
ORGANIZER;CN="Morris Cerullo World Evangelism":MAILTO:partnerservices@mcwe.com
END:VEVENT
BEGIN:VEVENT
DTSTART;VALUE=DATE:20230928
DTEND;VALUE=DATE:20231002
DTSTAMP:20260420T141459
CREATED:20230307T045047Z
LAST-MODIFIED:20231020T171453Z
UID:10000003-1695859200-1696204799@legacyeventssd.com
SUMMARY:Feast of Tabernacles Celebration
DESCRIPTION:AN INCREDIBLE LINE-UP OF MINISTERS IS GATHERING TO BRING YOU INTO AN EXPERIENCE OF GOD’S APPOINTED FEAST
URL:https://legacyeventssd.com/event/feast-of-tabernacles-celebration/
LOCATION:Legacy International Center\, 875 Hotel Circle South\, San Diego\, CA\, 92108\, United States
ATTACH;FMTTYPE=image/jpeg:https://legacyeventssd.com/wp-content/uploads/2023/03/fotevent-min.jpg
ORGANIZER;CN="Morris Cerullo World Evangelism":MAILTO:partnerservices@mcwe.com
END:VEVENT
BEGIN:VEVENT
DTSTART;TZID=America/Los_Angeles:20230819T183000
DTEND;TZID=America/Los_Angeles:20230819T220000
DTSTAMP:20260420T141459
CREATED:20231020T171154Z
LAST-MODIFIED:20231020T171325Z
UID:10000011-1692469800-1692482400@legacyeventssd.com
SUMMARY:Sound of Freedom Screening
DESCRIPTION:We are thrilled to extend a special invitation for you to join us for an exclusive screening of the incredibly powerful film. “Sound of Freedom\,” hosted at the Legacy International Center in partnership with The House San Diego on Saturday\, August 19th at 6:30 PM. \n“Sound of Freedom” is a true story that sheds light on the horrifying reality of human trafficking\, an issue that demands our collective attention and action. By attending this screening\, not only will you be moved by an impactful cinematic experience\, but you’ll also be joining hands in the fight to end human trafficking. \nIn an effort to support this cause\, a portion of every ticket sold will be donated to The Project Foundation\, a nonprofit organization dedicated to providing supportive services and advocating for victims of the sex trade. Your presence at the screening will make a meaningful difference in the lives of those who desperately need help. \nThat’s not all – arriving early will allow you to hear a special message from individuals actively involved in assisting victims of human trafficking. Their courage and dedication will inspire you and strengthen our collective resolve to combat this dark reality. \nWe encourage you to seize this opportunity to invite someone who hasn’t experienced this impactful true story yet. “Sound of Freedom” delivers a message that the enemy is trying to silence\, and by bringing more people to witness it\, we can spread awareness and take action against human trafficking. \nThis is a first-come\, first-serve event\, so we recommend arriving early to secure your spot. Doors will open at 6:00 PM. While you immerse yourself in this thought-provoking film. Concessions will be available for your enjoyment and free parking. Thank you for your unwavering support in this critical mission. We look forward to seeing you at the screening of “Sound of Freedom” on August 19th!
URL:https://legacyeventssd.com/event/sound-of-freedom-screening/
LOCATION:Legacy International Center\, 875 Hotel Circle South\, San Diego\, CA\, 92108\, United States
ATTACH;FMTTYPE=image/jpeg:https://legacyeventssd.com/wp-content/uploads/2023/10/sof-min.jpg
END:VEVENT
BEGIN:VEVENT
DTSTART;VALUE=DATE:20230526
DTEND;VALUE=DATE:20230528
DTSTAMP:20260420T141459
CREATED:20230307T044728Z
LAST-MODIFIED:20231020T170949Z
UID:10000002-1685059200-1685231999@legacyeventssd.com
SUMMARY:Feast of Pentecost Celebration
DESCRIPTION:An Incredible Line-up of Ministers Are Gathering for Legacy’s First Pentecost Celebration!\nDavid Cerullo invites you to celebrate Pentecost Weekend at Legacy\, May 26-27 with two great miracle services with world renowned evangelist\, Mario Murillo\, Friday and Saturday at 7PM plus an anointed array of ministers that will be coming to release the power of the Holy Spirit in special services Saturday morning and afternoon including Bishop Clarence McClendon\, Pastor Al Valdez and Pastor Sergio De La Mora. \nMario’s voice has been heard by millions around the world\, bringing a message that zeroes in on the hurts of society. He presents Christ clearly\, intelligently and openly declares the power of Jesus to totally transform a life. His simple declaration: Come and see. Christ has the power to end addiction\, racism\, violence and disease.
URL:https://legacyeventssd.com/event/feast-of-pentecost-celebration/
LOCATION:Legacy International Center\, 875 Hotel Circle South\, San Diego\, CA\, 92108\, United States
ATTACH;FMTTYPE=image/jpeg:https://legacyeventssd.com/wp-content/uploads/2023/03/pent.jpg
ORGANIZER;CN="Morris Cerullo World Evangelism":MAILTO:partnerservices@mcwe.com
END:VEVENT
BEGIN:VEVENT
DTSTART;VALUE=DATE:20230406
DTEND;VALUE=DATE:20230409
DTSTAMP:20260420T141459
CREATED:20230303T051351Z
LAST-MODIFIED:20231020T171548Z
UID:10000001-1680739200-1680998399@legacyeventssd.com
SUMMARY:Feast of Passover Celebration
DESCRIPTION:David Cerullo invites you to Celebrate the Feast of Passover at the Legacy International Center and join him plus special ministry guests: Steve Munsey\, Robert Stearns\, Bishop Clarence McClendon\, Jonathan Bernis\, Daniel Bentley and worship with Paul Wilbur and more!
URL:https://legacyeventssd.com/event/feast-of-passover-celebration/
LOCATION:Legacy International Center\, 875 Hotel Circle South\, San Diego\, CA\, 92108\, United States
ATTACH;FMTTYPE=image/jpeg:https://legacyeventssd.com/wp-content/uploads/2023/03/33894.00-FOP-Eventbrite-v3-002-2.jpg
ORGANIZER;CN="Morris Cerullo World Evangelism":MAILTO:partnerservices@mcwe.com
END:VEVENT
BEGIN:VEVENT
DTSTART;VALUE=DATE:20230204
DTEND;VALUE=DATE:20230205
DTSTAMP:20260420T141459
CREATED:20230823T042831Z
LAST-MODIFIED:20231020T170408Z
UID:10000005-1675468800-1675555199@legacyeventssd.com
SUMMARY:Michael W Smith Live in San Diego
DESCRIPTION:Michael W. Smith will be performing at the Legacy Center Resort Theater on Saturday\, February 4th. This performance is an intimate concert experience with worship and stories for only the first 250 people who purchase tickets. \n  \nAll tickets are general admission for this very special/unique concert experience. \n  \nDoors open at 7:00 pm.
URL:https://legacyeventssd.com/event/michael-w-smith-live-in-san-diego/
LOCATION:Legacy International Center\, 875 Hotel Circle South\, San Diego\, CA\, 92108\, United States
ATTACH;FMTTYPE=image/jpeg:https://legacyeventssd.com/wp-content/uploads/2023/08/https___cdn.evbuc_.com_images_427397309_177832580842_1_original.jpeg
END:VEVENT
BEGIN:VEVENT
DTSTART;TZID=America/Los_Angeles:20220312T190000
DTEND;TZID=America/Los_Angeles:20220312T210000
DTSTAMP:20260420T141459
CREATED:20231020T170247Z
LAST-MODIFIED:20231020T170319Z
UID:10000010-1647111600-1647118800@legacyeventssd.com
SUMMARY:BRAD STINE LIVE at Legacy!
DESCRIPTION:Brad Stine is called the father of cutting-edge conservative comedy and New Yorker Magazine has dubbed him “God’s Comic”. Brad is unapologetically proud of his faith\, his conservative values and his country. Brad has been seen on Fox and Friends\, HBO\, Showtime\, and Tucker Carlson tackling everyday craziness in America as well as spoofing political correctness\, all while being curse free and family friendly! \nfeaturing San Diego’s very own “LISA GILBERT” and Magician GREGORY WILSON!! \nLive at the Legacy Pavilion Theater \n  \nTix – $30 General admission \n$40 for Meet & Greet package \nSponsored by: King Aminpour Accident Attorney
URL:https://legacyeventssd.com/event/brad-stine-live-at-legacy/
LOCATION:Legacy International Center\, 875 Hotel Circle South\, San Diego\, CA\, 92108\, United States
ATTACH;FMTTYPE=image/jpeg:https://legacyeventssd.com/wp-content/uploads/2023/10/bradstinelive-min.jpg
END:VEVENT
BEGIN:VEVENT
DTSTART;VALUE=DATE:20211216
DTEND;VALUE=DATE:20211219
DTSTAMP:20260420T141459
CREATED:20230823T041950Z
LAST-MODIFIED:20231020T170342Z
UID:10000004-1639612800-1639871999@legacyeventssd.com
SUMMARY:2021 Christmas City USA
DESCRIPTION:YOU ARE INVITED to our annual Christmas City\, USA celebration for three\, fun and festive nights! The Legacy Center will be transformed as it is filled with music\, food\, vendors\, and festive décor! Make your plans to attend this free event\, now!  At the Legacy International Center\, there is something for all ages. Don’t miss out on this special occasion. Bring the whole family! Invite friends and neighbors. \nChristmas City Attractions: \n\n50 ft. Christmas Tree Light Show\n18 ft. Digital Snow Globe\nLive Entertainment\nLife-size Nativity Scene\n40-ft. Show Fountains\nChildren’s Activities\nOur 4-D Motion Seat Theater Will Be Open!\nLive Entertainment featuring Leon Timbo\, MALO\, and Denver & The Mile High Orchestra!\n\nWhere: 875 Hotel Circle South\, San Diego 92108 \nWhen: December 16-18 \nTime: 6:00 p.m. – 9:00 p.m. \nAdmission: FREE
URL:https://legacyeventssd.com/event/2021-christmas-city-usa/
LOCATION:Legacy International Center\, 875 Hotel Circle South\, San Diego\, CA\, 92108\, United States
ATTACH;FMTTYPE=image/jpeg:https://legacyeventssd.com/wp-content/uploads/2023/08/xmas-min.jpg
END:VEVENT
BEGIN:VEVENT
DTSTART;TZID=America/Los_Angeles:20200830T103000
DTEND;TZID=America/Los_Angeles:20200830T143000
DTSTAMP:20260420T141459
CREATED:20231020T191951Z
LAST-MODIFIED:20231020T192817Z
UID:10000013-1598783400-1598797800@legacyeventssd.com
SUMMARY:Sunday Gospel Brunch
DESCRIPTION:Gospel Brunch at The Fountains Plaza By Legacy Resort Hotel & Spa\nSunday\, August 30th\, 10:30AM – 2:30PM. Reservations Required & Limited Due To Covid.\nFor Reservations availble through phone call only. Please call (619) 782-9155 Dial “0”\n$29++ Per Person\, $14.50 For Kids 10-5\, Free For Kids 4-0. Parking is included in Brunch.\nBrunch Includes Joyful Live Music\, Family Style Dining\, & Outdoor Covid Compliant on the Plaza. Beverages can be ordered at table.\nMasks are required upon arrival & when moving around the facility. Masks can be taken off at your designated table.
URL:https://legacyeventssd.com/event/sunday-gospel-brunch/
LOCATION:Legacy International Center\, 875 Hotel Circle South\, San Diego\, CA\, 92108\, United States
ATTACH;FMTTYPE=image/jpeg:https://legacyeventssd.com/wp-content/uploads/2023/10/gospelbrunch-min.jpg
END:VEVENT
END:VCALENDAR